{"text_format":"1","workbook":"xlsx","n_sheets":5,"sheets":["System","Реквизиты","Таблица  1","Таблица  2","печать"],"not_rendered":{"charts":0,"images":17,"macros":1,"external_links":0,"defined_names":1,"comments":0,"pivot_tables":0},"unopened":[],"bounds":{"document_bytes":16777216,"sheet_cells":100000,"rows_first":2000,"rows_last":500,"rows_between":2000,"halvings":0,"cell_chars":16384,"cell_head_chars":4096},"cells_cut":0,"cells_raw":0,"read":"whole","date_system":"1900"}

{"sheet":"System","index":0,"n_rows":1000,"n_cols":25,"rows_kept":1000,"cut":false,"hidden":true,"merged":[]}
["Форма",null,null,"Атрибуты",null,null,"Таблицы",null,"ORDERS","NAME","COL_COUNT","CODE_COL","ROW_COUNT","VAL_TYPE","Колонки ",null,"TABLE","ORDERS","NAME","INPUT_MASK","EDIT","VAL_LEN","COL_TYPE","EXPORT_ORDER","PROPERTY"]
["CODE_FORM","фхд_2017",null,"REPORTS_ATR_MODIFY_D",1,null,"COUNT_TABLE",2,1,"ФХД 1,2,5,6 раздел",5,1,0,null,null,null,1,1,"Ключ",null,0,4,1,1,0]
["NAME_FORM","ПЛАН финансово-хозяйственной деятельности. Период действия формы: c 01.01.2017",null,null,null,null,null,null,2,"ФХД 3,4 раздел",13,1,0,null,null,null,1,2,"№ п/п",null,0,8,1,2,0]
["DATE_FORM","01.01.2017",null,null,null,null,null,null,null,null,null,null,null,null,null,null,1,3,"Наименование показателя",null,0,75,1,3,0]
["DEP_CODE","101",null,null,null,null,null,null,null,null,null,null,null,null,null,null,1,4,"код строки",null,0,10,1,4,0]
["ORG_NAME","Распорядитель Управление образования и молодежной политики администрации Уссурийского городского округа",null,null,null,null,null,null,null,null,null,null,null,null,null,null,1,5,"Сумма",null,1,2,0,5,0]
["BUDG","УС",null,null,null,null,null,null,null,null,null,null,null,null,null,null,2,1,"Ключ",null,0,5,1,1,8]
["BUDG_NAME","Бюджет Уссурийского городского округа",null,null,null,null,null,null,null,null,null,null,null,null,null,null,2,2,"Наименование показателя",null,0,143,1,2,0]
["PERIOD_Y","2018",null,null,null,null,null,null,null,null,null,null,null,null,null,null,2,3,"Код строки",null,0,10,1,3,0]
["PERIOD_Q","4",null,null,null,null,null,null,null,null,null,null,null,null,null,null,2,4,"код БК",null,0,8,1,4,0]
["PERIOD_M","12",null,null,null,null,null,null,null,null,null,null,null,null,null,null,2,5,"/ ВСЕГО закупки 2017г",null,1,2,0,5,0]
["BEGIN_DATE","31.01.2017",null,null,null,null,null,null,null,null,null,null,null,null,null,null,2,6,"/ ВСЕГО закупки 2018г",null,1,2,0,6,0]
["PERIOD_TYPE",4,null,null,null,null,null,null,null,null,null,null,null,null,null,null,2,7,"/ ВСЕГО закупки 2019г",null,1,2,0,7,0]
["PERIOD_NUMBER","1",null,null,null,null,null,null,null,null,null,null,null,null,null,null,2,8,"ВСЕГО / 44фз 2017г",null,1,2,0,8,0]
["PERIOD","",null,null,null,null,null,null,null,null,null,null,null,null,null,null,2,9,"субсидия МЗ/ 44фз 18г",null,1,2,0,9,0]
["USER","use",null,null,null,null,null,null,null,null,null,null,null,null,null,null,2,10,"субсидия БК 78.1/ 44фз 19г",null,1,2,0,10,0]
["WEB",null,null,null,null,null,null,null,null,null,null,null,null,null,null,null,2,11,"субсидии кап.вложения / 223фз 2017г",null,1,0,0,11,0]
["USERPROXY","",null,null,null,null,null,null,null,null,null,null,null,null,null,null,2,12,"поступл.от оказ услуг / 223фз 2018г",null,1,2,0,12,0]
["VERSION_FORM","0",null,null,null,null,null,null,null,null,null,null,null,null,null,null,2,13,"гранты / 223фз 2019г",null,1,2,0,13,0]
["PROXY",""]
["PORT",""]
["SQL_SERVER","192.168.1.2"]
["BASE","svod_2014"]
["Заголовок",""]
[null,""]
[null,""]
["Ячейка ",""]
[null,""]
[null,""]
[null,""]
["1 квартал","1"]
["2 квартал","2"]
["3 квартал","3"]
["4 квартал","4"]
[null,""]
["Январь","1"]
["Февраль","2"]
["Март","3"]
["Апрель","4"]
["Май","5"]
["Июнь","6"]
["Июль","7"]
["Август","8"]
["Сентябрь","9"]
["Октябрь","10"]
["Ноябрь","11"]
["Декабрь","12"]
[null,""]
[null,""]
[null,""]
[null,""]
[null,""]
[null,""]
[null,""]
[null,""]
[null,""]
[null,""]
[null,""]
[null,""]
[null,""]
[null,""]
[null,""]
[null,""]
[null,""]
[null,""]
[null,""]
[null,""]
[null,""]
[null,""]
[null,""]
[null,""]
[null,""]
[null,""]
[null,""]
[null,""]
[null,""]
[null,""]
[null,""]
[null,""]
[null,""]
[null,""]
[null,""]
[null,""]
[null,""]
[null,""]
[null,""]
[null,""]
[null,""]
[null,""]
[null,""]
[null,""]
[null,""]
[null,""]
[null,""]
[null,""]
[null,""]
[null,""]
[null,""]
[null,""]
[null,""]
[null,""]
[null,""]
[null,""]
[null,""]
[null,""]
[null,""]
[null,""]
[null,""]
[null,""]
[null,""]
[null,""]
[null,""]
[null,""]
[null,""]
[null,""]
[null,""]
[null,""]
[null,""]
[null,""]
[null,""]
[null,""]
[null,""]
[null,""]
[null,""]
[null,""]
[null,""]
[null,""]
[null,""]
[null,""]
[null,""]
[null,""]
[null,""]
[null,""]
[null,""]
[null,""]
[null,""]
[null,""]
[null,""]
[null,""]
[null,""]
[null,""]
[null,""]
[null,""]
[null,""]
[null,""]
[null,""]
[null,""]
[null,""]
[null,""]
[null,""]
[null,""]
[null,""]
[null,""]
[null,""]
[null,""]
[null,""]
[null,""]
[null,""]
[null,""]
[null,""]
[null,""]
[null,""]
[null,""]
[null,""]
[null,""]
[null,""]
[null,""]
[null,""]
[null,""]
[null,""]
[null,""]
[null,""]
[null,""]
[null,""]
[null,""]
[null,""]
[null,""]
[null,""]
[null,""]
[null,""]
[null,""]
[null,""]
[null,""]
[null,""]
[null,""]
[null,""]
[null,""]
[null,""]
[null,""]
[null,""]
[null,""]
[null,""]
[null,""]
[null,""]
[null,""]
[null,""]
[null,""]
[null,""]
[null,""]
[null,""]
[null,""]
[null,""]
[null,""]
[null,""]
[null,""]
[null,""]
[null,""]
[null,""]
[null,""]
[null,""]
[null,""]
[null,""]
[null,""]
[null,""]
[null,""]
[null,""]
[null,""]
[null,""]
[null,""]
[null,""]
[null,""]
[null,""]
[null,""]
[null,""]
[null,""]
[null,""]
[null,""]
[null,""]
[null,""]
[null,""]
[null,""]
[null,""]
[null,""]
[null,""]
[null,""]
[null,""]
[null,""]
[null,""]
[null,""]
[null,""]
[null,""]
[null,""]
[null,""]
[null,""]
[null,""]
[null,""]
[null,""]
[null,""]
[null,""]
[null,""]
[null,""]
[null,""]
[null,""]
[null,""]
[null,""]
[null,""]
[null,""]
[null,""]
[null,""]
[null,""]
[null,""]
[null,""]
[null,""]
[null,""]
[null,""]
[null,""]
[null,""]
[null,""]
[null,""]
[null,""]
[null,""]
[null,""]
[null,""]
[null,""]
[null,""]
[null,""]
[null,""]
[null,""]
[null,""]
[null,""]
[null,""]
[null,""]
[null,""]
[null,""]
[null,""]
[null,""]
[null,""]
[null,""]
[null,""]
[null,""]
[null,""]
[null,""]
[null,""]
[null,""]
[null,""]
[null,""]
[null,""]
[null,""]
[null,""]
[null,""]
[null,""]
[null,""]
[null,""]
[null,""]
[null,""]
[null,""]
[null,""]
[null,""]
[null,""]
[null,""]
[null,""]
[null,""]
[null,""]
[null,""]
[null,""]
[null,""]
[null,""]
[null,""]
[null,""]
[null,""]
[null,""]
[null,""]
[null,""]
[null,""]
[null,""]
[null,""]
[null,""]
[null,""]
[null,""]
[null,""]
[null,""]
[null,""]
[null,""]
[null,""]
[null,""]
[null,""]
[null,""]
[null,""]
[null,""]
[null,""]
[null,""]
[null,""]
[null,""]
[null,""]
[null,""]
[null,""]
[null,""]
[null,""]
[null,""]
[null,""]
[null,""]
[null,""]
[null,""]
[null,""]
[null,""]
[null,""]
[null,""]
[null,""]
[null,""]
[null,""]
[null,""]
[null,""]
[null,""]
[null,""]
[null,""]
[null,""]
[null,""]
[null,""]
[null,""]
[null,""]
[null,""]
[null,""]
[null,""]
[null,""]
[null,""]
[null,""]
[null,""]
[null,""]
[null,""]
[null,""]
[null,""]
[null,""]
[null,""]
[null,""]
[null,""]
[null,""]
[null,""]
[null,""]
[null,""]
[null,""]
[null,""]
[null,""]
[null,""]
[null,""]
[null,""]
[null,""]
[null,""]
[null,""]
[null,""]
[null,""]
[null,""]
[null,""]
[null,""]
[null,""]
[null,""]
[null,""]
[null,""]
[null,""]
[null,""]
[null,""]
[null,""]
[null,""]
[null,""]
[null,""]
[null,""]
[null,""]
[null,""]
[null,""]
[null,""]
[null,""]
[null,""]
[null,""]
[null,""]
[null,""]
[null,""]
[null,""]
[null,""]
[null,""]
[null,""]
[null,""]
[null,""]
[null,""]
[null,""]
[null,""]
[null,""]
[null,""]
[null,""]
[null,""]
[null,""]
[null,""]
[null,""]
[null,""]
[null,""]
[null,""]
[null,""]
[null,""]
[null,""]
[null,""]
[null,""]
[null,""]
[null,""]
[null,""]
[null,""]
[null,""]
[null,""]
[null,""]
[null,""]
[null,""]
[null,""]
[null,""]
[null,""]
[null,""]
[null,""]
[null,""]
[null,""]
[null,""]
[null,""]
[null,""]
[null,""]
[null,""]
[null,""]
[null,""]
[null,""]
[null,""]
[null,""]
[null,""]
[null,""]
[null,""]
[null,""]
[null,""]
[null,""]
[null,""]
[null,""]
[null,""]
[null,""]
[null,""]
[null,""]
[null,""]
[null,""]
[null,""]
[null,""]
[null,""]
[null,""]
[null,""]
[null,""]
[null,""]
[null,""]
[null,""]
[null,""]
[null,""]
[null,""]
[null,""]
[null,""]
[null,""]
[null,""]
[null,""]
[null,""]
[null,""]
[null,""]
[null,""]
[null,""]
[null,""]
[null,""]
[null,""]
[null,""]
[null,""]
[null,""]
[null,""]
[null,""]
[null,""]
[null,""]
[null,""]
[null,""]
[null,""]
[null,""]
[null,""]
[null,""]
[null,""]
[null,""]
[null,""]
[null,""]
[null,""]
[null,""]
[null,""]
[null,""]
[null,""]
[null,""]
[null,""]
[null,""]
[null,""]
[null,""]
[null,""]
[null,""]
[null,""]
[null,""]
[null,""]
[null,""]
[null,""]
[null,""]
[null,""]
[null,""]
[null,""]
[null,""]
[null,""]
[null,""]
[null,""]
[null,""]
[null,""]
[null,""]
[null,""]
[null,""]
[null,""]
[null,""]
[null,""]
[null,""]
[null,""]
[null,""]
[null,""]
[null,""]
[null,""]
[null,""]
[null,""]
[null,""]
[null,""]
[null,""]
[null,""]
[null,""]
[null,""]
[null,""]
[null,""]
[null,""]
[null,""]
[null,""]
[null,""]
[null,""]
[null,""]
[null,""]
[null,""]
[null,""]
[null,""]
[null,""]
[null,""]
[null,""]
[null,""]
[null,""]
[null,""]
[null,""]
[null,""]
[null,""]
[null,""]
[null,""]
[null,""]
[null,""]
[null,""]
[null,""]
[null,""]
[null,""]
[null,""]
[null,""]
[null,""]
[null,""]
[null,""]
[null,""]
[null,""]
[null,""]
[null,""]
[null,""]
[null,""]
[null,""]
[null,""]
[null,""]
[null,""]
[null,""]
[null,""]
[null,""]
[null,""]
[null,""]
[null,""]
[null,""]
[null,""]
[null,""]
[null,""]
[null,""]
[null,""]
[null,""]
[null,""]
[null,""]
[null,""]
[null,""]
[null,""]
[null,""]
[null,""]
[null,""]
[null,""]
[null,""]
[null,""]
[null,""]
[null,""]
[null,""]
[null,""]
[null,""]
[null,""]
[null,""]
[null,""]
[null,""]
[null,""]
[null,""]
[null,""]
[null,""]
[null,""]
[null,""]
[null,""]
[null,""]
[null,""]
[null,""]
[null,""]
[null,""]
[null,""]
[null,""]
[null,""]
[null,""]
[null,""]
[null,""]
[null,""]
[null,""]
[null,""]
[null,""]
[null,""]
[null,""]
[null,""]
[null,""]
[null,""]
[null,""]
[null,""]
[null,""]
[null,""]
[null,""]
[null,""]
[null,""]
[null,""]
[null,""]
[null,""]
[null,""]
[null,""]
[null,""]
[null,""]
[null,""]
[null,""]
[null,""]
[null,""]
[null,""]
[null,""]
[null,""]
[null,""]
[null,""]
[null,""]
[null,""]
[null,""]
[null,""]
[null,""]
[null,""]
[null,""]
[null,""]
[null,""]
[null,""]
[null,""]
[null,""]
[null,""]
[null,""]
[null,""]
[null,""]
[null,""]
[null,""]
[null,""]
[null,""]
[null,""]
[null,""]
[null,""]
[null,""]
[null,""]
[null,""]
[null,""]
[null,""]
[null,""]
[null,""]
[null,""]
[null,""]
[null,""]
[null,""]
[null,""]
[null,""]
[null,""]
[null,""]
[null,""]
[null,""]
[null,""]
[null,""]
[null,""]
[null,""]
[null,""]
[null,""]
[null,""]
[null,""]
[null,""]
[null,""]
[null,""]
[null,""]
[null,""]
[null,""]
[null,""]
[null,""]
[null,""]
[null,""]
[null,""]
[null,""]
[null,""]
[null,""]
[null,""]
[null,""]
[null,""]
[null,""]
[null,""]
[null,""]
[null,""]
[null,""]
[null,""]
[null,""]
[null,""]
[null,""]
[null,""]
[null,""]
[null,""]
[null,""]
[null,""]
[null,""]
[null,""]
[null,""]
[null,""]
[null,""]
[null,""]
[null,""]
[null,""]
[null,""]
[null,""]
[null,""]
[null,""]
[null,""]
[null,""]
[null,""]
[null,""]
[null,""]
[null,""]
[null,""]
[null,""]
[null,""]
[null,""]
[null,""]
[null,""]
[null,""]
[null,""]
[null,""]
[null,""]
[null,""]
[null,""]
[null,""]
[null,""]
[null,""]
[null,""]
[null,""]
[null,""]
[null,""]
[null,""]
[null,""]
[null,""]
[null,""]
[null,""]
[null,""]
[null,""]
[null,""]
[null,""]
[null,""]
[null,""]
[null,""]
[null,""]
[null,""]
[null,""]
[null,""]
[null,""]
[null,""]
[null,""]
[null,""]
[null,""]
[null,""]
[null,""]
[null,""]
[null,""]
[null,""]
[null,""]
[null,""]
[null,""]
[null,""]
[null,""]
[null,""]
[null,""]
[null,""]
[null,""]
[null,""]
[null,""]
[null,""]
[null,""]
[null,""]
[null,""]
[null,""]
[null,""]
[null,""]
[null,""]
[null,""]
[null,""]
[null,""]
[null,""]
[null,""]
[null,""]
[null,""]
[null,""]
[null,""]
[null,""]
[null,""]
[null,""]
[null,""]
[null,""]
[null,""]
[null,""]
[null,""]
[null,""]
[null,""]
[null,""]
[null,""]
[null,""]
[null,""]
[null,""]
[null,""]
[null,""]
[null,""]
[null,""]
[null,""]
[null,""]
[null,""]
[null,""]
[null,""]
[null,""]
[null,""]
[null,""]
[null,""]
[null,""]
[null,""]
[null,""]
[null,""]
[null,""]
[null,""]
[null,""]
[null,""]
[null,""]
[null,""]
[null,""]
[null,""]
[null,""]
[null,""]
[null,""]
[null,""]
[null,""]
[null,""]
[null,""]
[null,""]
[null,""]
[null,""]
[null,""]
[null,""]
[null,""]
[null,""]
[null,""]
[null,""]
[null,""]
[null,""]
[null,""]
[null,""]
[null,""]
[null,""]
[null,""]
[null,""]
[null,""]
[null,""]
[null,""]
[null,""]
[null,""]
[null,""]
[null,""]
[null,""]
[null,""]
[null,""]
[null,""]
[null,""]
[null,""]
[null,""]
[null,""]
[null,""]
[null,""]
[null,""]
[null,""]
[null,""]
[null,""]
[null,""]
[null,""]
[null,""]
[null,""]
[null,""]
[null,""]
[null,""]
[null,""]
[null,""]
[null,""]
[null,""]
[null,""]
[null,""]
[null,""]
[null,""]
[null,""]
[null,""]
[null,""]
[null,""]
[null,""]
[null,""]
[null,""]
[null,""]
[null,""]
[null,""]
[null,""]
[null,""]
[null,""]
[null,""]
[null,""]
[null,""]
[null,""]
[null,""]
[null,""]
[null,""]
[null,""]
[null,""]
[null,""]
[null,""]
[null,""]

{"sheet":"Реквизиты","index":1,"n_rows":25,"n_cols":3,"rows_kept":25,"cut":false,"hidden":false,"merged":[[0,1,0,3],[1,1,1,8]]}
[null,"Excel-клиент v 1.4"]
[null,"Форма:фхд_2017 ПЛАН финансово-хозяйственной деятельности. Период действия формы: c 01.01.2017"]
[]
[]
[]
[]
[]
[]
[]
[]
[]
[]
[]
[]
[]
[]
[]
[]
[]
[]
[]
[]
[]
[null,"Атрибуты","Дата последнего изменения"]
[null,null,""]

{"sheet":"Таблица  1","index":2,"n_rows":46,"n_cols":5,"rows_kept":46,"cut":false,"hidden":false,"merged":[]}
["ФХД 1,2,5,6 раздел"]
["121216"]
["Ключ","№ п/п","Наименование показателя","код строки","Сумма"]
["1","2","3","4","5"]
["900",null,"I. Сведения о деятельности учреждения",null,0]
["1000","1","Цели и виды деятельности",null,0]
["1100","2","Перечень услуг (работ)",null,0]
["1200","3","Общая балансовая стоимость НЕДВИЖИМОГО мун. имущества",null,32373778.809999999]
["1300",null,"на праве оперативного управления",null,32373778.809999999]
["1400",null,"за счет выделенных средств",null,0]
["1500",null,"за счет доходов (от иной деятельности)",null,0]
["1600","4","Общая балансовая стоимость ДВИЖИМОГО мун. имущества",null,12461980.140000001]
["1700",null,"особо ценное имущество",null,4670449.08]
["1800",null,"ll. Показатели финансового состояния",null,0]
["1900",null,"",null,0]
["2000",null,"(запрет)",null,0]
["2100","№ п/п","наименование показателя   /    сумма",null,0]
["2200","1","Нефинансовые активы всего",null,88514662.459999993]
["2300","1.1.","из них : недвижимое, всего",null,32373778.809999999]
["2400","1.1.1.","в том числе: остаточная стоимость",null,19683183.719999999]
["2500","1.2.","особо ценное движимое, всего",null,4670449.08]
["2600","1.2.1.","в том числе: остаточная стоимость",null,149547.84]
["2700","2","Финансовые активы всего",null,-87304198.200000003]
["2800","2.1.","из них: денежные средства, всего",null,385703.57]
["2900","2.1.1.","в том числе: денежные срведства на счетах",null,385703.57]
["3000","2.2.","денежные средства на депозитах в кредитных организациях",null,0]
["3100","2.3.","иные финансовые документы",null,0]
["3200","2.4.","дебиторская задолженность по доходам",null,69409.56]
["3300","2.5.","дебиторская задолженность по расходам",null,70787.710000000006]
["3400","3","Обязательства всего",null,120100.6]
["3500","3.1.","из них: долговые обязательства",null,0]
["3600","3.2.","кредиторская задолженность",null,67848.17]
["3700","3.2.1.","в том числе: просроченная кредиторская задолж.",null,0]
["3800","","V Сведения о средствах, поступивших во временное распоряжение",null,0]
["3900",null,null,null,0]
["4000",null,null,null,0]
["4100",null,"наименование показателя / код строки / сумма",null,0]
["4200",null,"Остаток средств на начало года","010",0]
["4300",null,"Остаток средств на конец года","020",0]
["4400",null,"Поступление","030",0]
["4500",null,"Выбытие","040",0]
["4600",null,"VI Справочная информация",null,0]
["4700",null,"наименование показателя / код строки / сумма",null,0]
["4800",null,"Объем публичных обязательств, всего","010",419723]
["4900",null,"Объем бюджетных инвестиций (переданные полномочия), всего","020",0]
["5000",null,"Объем средств, поступивших во временное распоряжение, всего","030",0]

{"sheet":"Таблица  2","index":3,"n_rows":74,"n_cols":14,"rows_kept":74,"cut":false,"hidden":false,"merged":[[2,13,64,13],[65,13,74,13]]}
["ФХД 3,4 раздел"]
[]
["Ключ","Наименование показателя","Код строки","код БК","не заполняется / ВСЕГО закупки 2017г","не заполняется / ВСЕГО закупки 2018г","не заполняется / ВСЕГО закупки 2019г","   ВСЕГО /        44фз 2017г","субсидия МЗ / 44фз 18г","субсидия БК 78.1 / 44фз 19г","субсидии кап.вложения / 223фз 2017г","поступл.от оказ услуг /            223фз 2018г","гранты /                223фз 2019г","заполняется \nтолько \n2018\n"]
["1","2","3","4","5","6","7","8","9","10","11","12","13"]
["1000","III. Показатели по поступлениям и выплатам",null,null,0,0,0,0,0,0,0,0,0]
["1100","на 1 января 2017г.",null,null,0,0,0,0,0,0,0,0,0]
["1200","","","",0,0,0,0,0,0,0,0,0]
["1300","","","",0,0,0,0,0,0,0,0,0]
["1400","","","",0,0,0,0,0,0,0,0,0]
["1500","","","",0,0,0,0,0,0,0,0,0]
["1600","ПОСТУПЛЕНИЯ ОТ ДОХОДОВ, ВСЕГО:","100","Х",0,0,0,{"$f":"H12+H13+H14+H15+H16+H17","v":54589807.340000004},{"$f":"I13","v":42466398.450000003},{"$f":"J16","v":9877322.8200000003},{"$f":"K16","v":0},{"$f":"L13+L17+L12+L15+L14","v":2246086.0700000003},{"$f":"M13+M14+M15+M17","v":0}]
["1700","в том числе: доходы от собственности","110",null,0,0,0,{"$f":"L12","v":0},0,0,0,null,0]
["1800","доходы от оказания услуг, работ","120",null,0,0,0,{"$f":"I13+L13+M13","v":42466398.450000003},42466398.450000003,0,0]
["1900","доходы от штрафов, пеней иных сумм принудительного изъятия","130",null,0,0,0,{"$f":"M14+L14","v":18648.2},0,0,0,18648.2]
["2000","безвозм.поступл. от наднац.орг.,правит.иностр.госуд.,международ.финан.организ.","140",null,0,0,0,{"$f":"M15+L15","v":0},0,0,0,0]
["2100","иные субсидии, предоставляемые из бюджета","150",null,0,0,0,{"$f":"J16+K16","v":9877322.8200000003},0,9877322.8200000003,null,0,0]
["2200","прочие доходы","160",null,0,0,0,{"$f":"L17+M17","v":2227437.87},0,0,0,{"$f":"L18+L19+L20+L21","v":2227437.87},{"$f":"M18+M19+M20+M21","v":0}]
["2300","в том числе род.плата","161",null,0,0,0,{"$f":"L18+M18","v":1336203.07},0,0,0,1336203.07]
["2400","платные услуги","162",null,0,0,0,{"$f":"L19+M19","v":855263},0,0,0,855263]
["2500","добровольные пожертвования","163",null,0,0,0,35971.800000000003,0,0,0,35971.800000000003]
["2600","доходы от операций с активами","180",null,0,0,0,0,0,0,0]
["2700","ВЫПЛАТЫ ПО РАСХОДАМ, ВСЕГО:","200","Х",0,0,0,{"$f":"H23+H27+H32+H33+H34+H41","v":55019614.899999999},{"$f":"I23+I27+I32+I33+I34+I41","v":42466398.450000003},9877322.8199999984,0,2675893.63,0]
["2800","в том числе, на выплаты персоналу всего:","210","",0,0,0,{"$f":"H24","v":33778278.520000003},{"$f":"I24","v":33006613},0,0,771665.52,0]
["2900","из них:оплата труда и начисл.на выплаты по опл.тр.","211","",0,0,0,{"$f":"H25+H26","v":33778278.520000003},{"$f":"I25+I26","v":33006613},0,0,771665.52,0]
["3000","из них: оплата труда:","","111",0,0,0,{"$f":"I25+J25+K25+L25+M25","v":25794859.440000001},25362656.370000001,null,null,432203.07]
["3100","начисления на выплаты по оплате труда","","119",0,0,0,{"$f":"I26+J26+K26+L26+M26","v":7983419.0800000001},7643956.6299999999,null,null,339462.45]
["3200","Социальные или иные выплаты населению, всего","220","",0,0,0,{"$f":"H28+H29+H30+H31","v":15695.6},{"$f":"I28+I29+I30+I31","v":11070},0,0,4625.6000000000004,0]
["3300","из них: прочие выплаты","","112",0,0,0,{"$f":"I28+J28+K28+L28+M28","v":15695.6},11070,null,null,4625.6000000000004]
["3400","прочие расходы (иные выплаты персоналу учрежд.,за исключ.фонда опл.труда)","","112",0,0,0,{"$f":"I29+J29+K29+L29+M29","v":0}]
["3500","транспортные услуги","","112",0,0,0,0]
["3600","прочие услуги","","112",0,0,0,0]
["3700","Уплата налогов, сборов и иных платежей, всего","230","",0,0,0,{"$f":"I32+J32+K32+L32+M32","v":0}]
["3800","Безвозмездные перечисления организациям","240","",0,0,0,{"$f":"I33+J33+K33+L33+M33","v":0}]
["3900","Прочие расходы(кроме расх.на закупку товаров,работ,услуг)","250","",0,0,0,{"$f":"H35+H36+H37+H38+H39+H40","v":1197871.1200000001},{"$f":"I35+I36+I37+I38+I39+I40","v":1063722},131799.12,0,2350,0]
["4000","прочие расходы(питание спортсменов)","","113",0,0,0,{"$f":"I35+J35+K35+L35+M35","v":0}]
["4100","прочие расходы(трудоустройство несовершен.граждан(трудовые бригады)","","360",0,0,0,{"$f":"I36+J36+K36+L36+M36","v":131799.12},null,131799.12]
["4200","прочие расходы(возмещение истцу расх. на гос.пошлину и уплата неустойки, оплюрасходов на экспертизу суд.актом,возмещ.ущерба должн.лицом по суду","","831",0,0,0,0]
["4300","прочие расходы(уплата налога на имущ.организаций,земельного налога)","","851",0,0,0,1063722,1063722]
["4400","прочие расходы(уплата трансп.налога,госпошлина учр.-ответчика по реш.суда)","","852",0,0,0,2350,0,null,null,2350]
["4500","уплата иных платежей(в т.ч. за несвоевремен.упл.налогов и сборов,плата за загрязн.окр.среды)","","853",0,0,0,0,0]
["4600","Расходы на закупку товаров,работ,услуг,всего","260","Х",0,0,0,{"$f":"H42+H45+H48","v":20027769.659999996},{"$f":"I42+I45+I48","v":8384993.4499999993},9745523.6999999993,0,1897252.51,0]
["4700","Закупка товаров,работ,услуг на капит.ремонт гос.(мун.) имущества","261","",0,0,0,{"$f":"I42+J42+K42+L42+M42","v":7379974},{"$f":"I43+I44","v":0},{"$f":"J43+J44","v":7379974},0,0,0]
["4800","услуги по содержанию имущества","","243",0,0,0,{"$f":"I43+J43+K43+L43+M43","v":7379974},0,7379974]
["4900","прочие услуги","","243",0,0,0,{"$f":"I44+J44+K44+L44+M44","v":0}]
["5000","Затраты на строит.объектов недвиж.имущ. гос.(мун.) учрежд.","262",null,0,0,0,{"$f":"H47+H46","v":0},{"$f":"I47+I46","v":0},0,0,0,0]
["5100","прочие услуги","","407",0,0,0,{"$f":"I46+J46+K46+L46+M46","v":0}]
["5110","приобретение основных средств","","407",0,0,0,{"$f":"I47+J47+K47+L47+M47","v":0}]
["5200","Прочая закупка товаров,работ и услуг для обеспечен.гос.(мун.) нужд","263","",0,0,0,{"$f":"I48+J48+K48+L48+M48","v":12647795.659999998},{"$f":"I49+I50+I51+I52+I53+I54+I55+I56+I57","v":8384993.4499999993},2365549.7000000002,0,1897252.51,{"$f":"M49+M50+M51+M52+M53+M54+M55+M56+M57","v":0}]
["5300","услуги связи","","244",0,0,0,{"$f":"I49+J49+K49+L49+M49","v":96449.05},58880.05,null,null,37569]
["5400","транспортные услуги","","244",0,0,0,1135600,1135600]
["5500","коммунальные услуги","","244",0,0,0,3985820.53,3950936.53,null,null,34884]
["5600","арендная плата за пользование имущества","","244",0,0,0,0]
["5700","услуги по содержанию имущества","","244",0,0,0,558455.64,497625,20638.64,null,40192]
["5800","прочие услуги","","244",0,0,0,413140.47,336381.47,48000,null,28759]
["5900","прочие расходы (призы,кубки)","","244",0,0,0,396,396]
["6000","приобретение основных средств","","244",0,0,0,1779830.4,1613988.4,null,null,165842]
["6100","приобретение материальных запасов","","244",0,0,0,{"$f":"I57+J57+K57+L57+M57","v":4678103.57},791186,2296911.06,0,1590006.51]
["6200","Поступление финансовых активов, всего","300","х",0,0,0,{"$f":"I58+J58+K58+L58+M58","v":0}]
["6300","из них: увеличение остатков средств","310","",0,0,0,{"$f":"I59+J59+K59+L59+M59","v":0}]
["6400","Прочие поступления","320","",0,0,0,0]
["6500","Выбытие финансовых активов, всего","400","",0,0,0,0]
["6600","из них: уменьшение остатков средств","410","",0,0,0,0]
["6700","прочие выбытия","420","",0,0,0,0]
["6800","Остаток средств на начало года","500","х",0,0,0,{"$f":"I64+J64+K64+L64+M64","v":429807.56},null,null,null,429807.56]
["6900","Остаток средств на конец года","600","х",0,0,0,0,0,0,0,0,0]
["7000","IV. Показатели по поступлениям и выплатам учреждения","","","ВСЕГО закупки 2018г","ВСЕГО закупки 2019г","ВСЕГО закупки 2020г","44фз 2018г","44фз 2019г","44фз 2020г","223фз 2018г","/ 223фз 2019г","223фз 2020г","заполняется\n2018, 2019, 2020"]
["7100","на 1 января 2017 года","",""]
["7200","","",""]
["7300","","",""]
["7400","","",""]
["7500","","",""]
["7600","Выплаты по расходам на закупку товаров,рабт,услуг,всего:","0001","х",{"$f":"H72+K72","v":20027769.659999996},{"$f":"I72+L72","v":11691220.41},11865469.449999999,{"$f":"H41","v":20027769.659999996},{"$f":"I73+I74","v":11691220.41},{"$f":"J73+J74","v":11865469.449999999}]
["7700","в том числе:на оплату контрактов,закюч. до начала очередного фин.года:","1001","х",{"$f":"H73+K73","v":848792.45},848792.45,848792.45,848792.45,848792.45,848792.45]
["7800","на закупку товаров,работ,услуг по году начала закупки:","2001",null,19178977.209999997,10842427.960000001,11016677,{"$f":"H72-H73","v":19178977.209999997},10842427.960000001,11016677,{"$f":"K72-K73","v":0},{"$f":"L72-L73","v":0},{"$f":"M72-M73","v":0}]

{"sheet":"печать","index":4,"n_rows":222,"n_cols":20,"rows_kept":222,"cut":false,"hidden":false,"merged":[[206,1,206,11],[209,1,209,10],[210,1,210,10],[183,1,184,10],[185,1,185,10],[182,1,182,11],[189,2,190,6],[191,2,191,6],[192,2,192,6],[193,2,193,6],[194,2,194,6],[195,2,195,6],[196,2,196,6],[197,2,197,6],[198,2,198,6],[199,2,199,6],[200,2,200,6],[201,2,201,6],[202,2,202,6],[203,2,203,6],[200,7,200,9],[201,7,201,9],[202,7,202,9],[203,7,203,9],[195,7,195,9],[196,7,196,9],[197,7,197,9],[198,7,198,9],[199,7,199,9],[191,7,191,9],[192,7,192,9],[193,7,193,9],[194,7,194,9],[207,1,208,10],[211,1,212,10],[215,1,215,4],[217,1,217,4],[16,14,16,17],[181,0,181,12],[186,1,186,10],[188,1,188,4],[189,7,190,9],[139,0,139,4],[139,5,139,7],[139,8,139,11],[137,0,137,4],[137,5,137,7],[137,8,137,11],[138,0,138,4],[138,5,138,7],[138,8,138,11],[133,0,134,11],[135,0,135,4],[135,5,135,7],[135,8,135,11],[136,0,136,4],[136,5,136,7],[136,8,136,11],[131,0,131,4],[131,5,131,7],[131,8,131,11],[132,0,132,4],[132,5,132,7],[132,8,132,11],[129,0,129,4],[129,5,129,7],[129,8,129,11],[130,0,130,4],[130,5,130,7],[130,8,130,11],[127,0,127,4],[127,5,127,7],[127,8,127,11],[128,0,128,4],[128,5,128,7],[128,8,128,11],[116,6,116,11],[117,6,117,8],[117,9,117,11],[123,0,124,11],[125,0,125,11],[126,0,126,11],[110,0,110,3],[111,0,111,3],[112,0,112,3],[113,0,113,11],[114,0,114,11],[115,0,118,0],[115,1,118,1],[115,2,118,2],[115,3,115,11],[116,3,117,5],[104,0,104,3],[105,0,105,3],[106,0,106,3],[107,0,107,3],[108,0,108,3],[109,0,109,3],[98,0,98,3],[99,0,99,3],[100,0,100,3],[101,0,101,3],[102,0,102,3],[103,0,103,3],[91,0,91,3],[92,0,92,3],[94,0,94,3],[95,0,95,3],[96,0,96,3],[97,0,97,3],[85,0,85,3],[86,0,86,3],[87,0,87,3],[88,0,88,3],[89,0,89,3],[90,0,90,3],[93,0,93,3],[79,0,79,3],[80,0,80,3],[81,0,81,3],[82,0,82,3],[83,0,83,3],[84,0,84,3],[73,0,73,3],[74,0,74,3],[75,0,75,3],[76,0,76,3],[77,0,77,3],[78,0,78,3],[67,0,67,3],[68,0,68,3],[69,0,69,3],[70,0,70,3],[71,0,71,3],[72,0,72,3],[61,0,61,3],[62,0,62,3],[63,0,63,3],[64,0,64,3],[65,0,65,3],[66,0,66,3],[55,9,56,9],[55,10,55,11],[57,0,57,3],[58,0,58,3],[59,0,59,3],[60,0,60,3],[50,0,51,11],[52,0,52,11],[53,0,56,3],[53,4,56,4],[53,5,56,5],[53,6,53,11],[54,6,56,6],[54,7,54,11],[55,7,56,7],[55,8,56,8],[47,1,47,4],[47,5,47,11],[48,1,48,4],[48,5,48,11],[49,1,49,4],[49,5,49,11],[44,1,44,4],[44,5,44,11],[45,1,45,4],[45,5,45,11],[46,1,46,4],[46,5,46,11],[41,1,41,4],[41,5,41,11],[42,1,42,4],[42,5,42,11],[43,1,43,4],[43,5,43,11],[38,1,38,4],[38,5,38,11],[39,1,39,4],[39,5,39,11],[40,1,40,4],[40,5,40,11],[35,1,35,4],[35,5,35,11],[36,1,36,4],[36,5,36,11],[37,1,37,4],[37,5,37,11],[31,5,31,6],[32,1,32,4],[32,5,32,11],[33,1,33,4],[33,5,33,11],[34,1,34,4],[34,5,34,11],[27,0,27,4],[27,5,27,11],[28,0,28,4],[28,5,28,11],[29,0,29,11],[30,0,30,11],[24,0,24,4],[24,5,24,11],[25,0,25,4],[25,5,25,11],[26,0,26,4],[26,5,26,11],[20,0,20,11],[21,0,21,4],[21,5,21,11],[22,0,22,4],[22,5,22,11],[23,0,23,4],[23,5,23,11],[17,0,17,4],[17,5,17,11],[18,0,18,4],[18,5,18,11],[19,0,19,4],[19,5,19,11],[14,0,14,4],[14,5,14,11],[15,0,15,4],[15,5,15,11],[16,0,16,4],[16,5,16,11],[7,0,7,11],[8,0,8,11],[10,0,10,11],[11,1,11,4],[12,0,12,11],[13,0,13,4],[13,5,13,11],[9,0,9,11],[2,0,2,2],[2,3,2,4],[2,8,2,11],[3,0,3,2],[3,8,3,11],[4,0,4,2],[0,0,0,2],[0,3,0,4],[0,8,0,11],[1,3,1,4],[1,8,1,11]]}
["                 Согласовано",null,null,null,null,null,null,null,"Утверждаю",null,null,null,2203]
["Начальник управления образования                                                        ",null,null,null,null,null,null,null,"Директор"]
[" и молодежной политики                                                      "]
["________________ О.Н.Минашкина                                          ",null,null,null,null,null,null,null,"                                                              Битнер В.Ф."]
["\" 29 \" декабря 2018    г.                                                                                    ",null,null,null,null,null,null,null,"\"29 \" декабря 2018     г.                                                                                    ",null,null,null,null,null,"ФОРМУЛЫ САМОКОНТРОЛЯ"]
[null,"                                                   "]
[null,null,null,null,null,null,null,null,null,null,null,null,null,null,2017]
["ПЛАН",null,null,null,null,null,null,null,null,null,null,null,null,null,{"$f":"G59-G70+G112","v":5.0640664994716644E-9},"должно равняться нулю"]
["ФИНАНСОВО-ХОЗЯЙСТВЕННОЙ ДЕЯТЕЛЬНОСТИ",null,null,null,null,null,null,null,null,null,null,null,null,null,"всего","(доход+ остаток на начало года-расход)"]
[]
["на 2018 год и плановый период 2019-2020 гг. (С учетом изменений)"]
[]
["    Дата составления   \" 29 \" декабря 2018 г.         "]
["Наименование учреждения                                             ",null,null,null,null,"Муниципальное бюджетное общеобразовательное учреждение                                                          \"Средняя общеобразовательная школа № 8\" г. Уссурийска Уссурийского городского округа",null,null,null,null,null,null,null,null,"субсидия МЗ ","субсидия БК 78.1","субсидии кап.вложения ","поступл.от оказ услуг /            ","гранты /                "]
["Наименование органа, осуществляющего функции и полномочия учредителя",null,null,null,null,"Управление образования и молодежной политики администрации Уссурийского городского округа",null,null,null,null,null,null,null,null,{"$f":"'Таблица  2'!I11+'Таблица  2'!I64-'Таблица  2'!I22","v":0},{"$f":"'Таблица  2'!J11+'Таблица  2'!J64-'Таблица  2'!J22","v":0},{"$f":"'Таблица  2'!K11+'Таблица  2'!K64-'Таблица  2'!K22","v":0},{"$f":"'Таблица  2'!L11+'Таблица  2'!L64-'Таблица  2'!L22","v":0},{"$f":"'Таблица  2'!M11+'Таблица  2'!M64-'Таблица  2'!M22","v":0}," должно равняться нулю, разница по каждому разделу- пост+ост-расх"]
["Адрес фактического местонахождения                                  ",null,null,null,null,"692502, г. Уссурийск, ул. Владивостокское шоссе, 8"]
["ИНН/КПП, код  по реестру участников бюджетного процесса, а так же юридических лиц, не являющихся участниками бюджетного процесса                                                            ",null,null,null,null,"2511037540/251101001"]
["Единица измерения                                                   ",null,null,null,null,"Рубль"]
["Финансовый год (финансовый год и плановый период), на который представлены сведения                                               ",null,null,null,null,"2018 год и плановый период 2019-2020 гг."]
["Наименование органа, осуществляющего ведение лицевого счета ",null,null,null,null,","]
["I. Сведения о деятельности учреждения"]
["1. Цели и виды деятельности учреждения (указываются в соответствии с нормативными правовыми актами и уставом учреждения)              ",null,null,null,null,"Цель - формирование общей культуры личности обучающихся на основе усвоения обязательного минимума содержания общеобразовательных программ, их адаптации к жизни в обществе, создания основы для осознанного выбора и последующего освоения профессиональных образовательных программ, воспитания гражданнственности, трудолюбия, уважения к правам и свободам человека, любви к окружающей природе, Родине, семье."]
["2. Перечень услуг (работ), относящихся в соответствии с уставом учреждения к основным видам деятельности учреждения, предоставление которых для физических и юридических лиц осуществляется, в том числе за плату   ",null,null,null,null,"Основным предметом деятельности Учреждения является реализация общеобразовательных программ начального общего, основного общего и среднего (полного) общего образования. Учреждение оказывает на договорной основе обучающимся, населению и организациям платные дополнительные образовательные и физкультурно-оздоровительные и иные услуги, не предусмотренные государственными образовательными стандартами."]
["3. Общая балансовая стоимость недвижимого муниципального имущества на дату составления Плана, в том числе:                  ",null,null,null,null,{"$f":"'Таблица  1'!E8","v":32373778.809999999}]
["стоимость имущества, закрепленного собственником имущества за учреждением на праве оперативного управления;                      ",null,null,null,null,{"$f":"'Таблица  1'!E9","v":32373778.809999999}]
["стоимость имущества, приобретенного учреждением за счет выделенных собственником имущества учреждения средств;                        ",null,null,null,null,{"$f":"'Таблица  1'!E10","v":0}]
["стоимость имущества, приобретенного учреждением за счет доходов, полученных от иной приносящей доход деятельности                   ",null,null,null,null,{"$f":"'Таблица  1'!E11","v":0}]
["4. Общая балансовая стоимость движимого муниципального имущества на дату составления Плана, в том числе:                            ",null,null,null,null,{"$f":"'Таблица  1'!E12","v":12461980.140000001}]
["балансовая стоимость особо ценного движимого имущества             ",null,null,null,null,{"$f":"'Таблица  1'!E13","v":4670449.08}]
["II. Показатели финансового состояния учреждения"]
["на   01   января    2018 г."]
[null,null,null,null,null,"(последнюю отчетную дату)"]
["№ п/п","Наименование показателя                     ",null,null,null,"Сумма, руб."]
[1,2,null,null,null,3]
[1,"Нефинансовые активы, всего:                                  ",null,null,null,{"$f":"'Таблица  1'!E18","v":88514662.459999993}]
["1.1.","из них:  недвижимое имущество, всего:                                                       ",null,null,null,{"$f":"'Таблица  1'!E19","v":32373778.809999999}]
["1.1.1.","в том числе: остаточная стоимость",null,null,null,{"$f":"'Таблица  1'!E20","v":19683183.719999999}]
["1.2.","особо ценное движимое имущество, всего:",null,null,null,{"$f":"'Таблица  1'!E21","v":4670449.08}]
["1.2.1.","в том числе: остаточная стоимость ",null,null,null,{"$f":"'Таблица  1'!E22","v":149547.84}]
[2,"Финансовые активы, всего:",null,null,null,{"$f":"'Таблица  1'!E23","v":-87304198.200000003}]
["2.1.","из них:  денежные средства учреждения ,всего:                                                       ",null,null,null,{"$f":"'Таблица  1'!E24","v":385703.57}]
["2.1.1.","в том числе: денежные средства учреждения на счетах",null,null,null,{"$f":"'Таблица  1'!E25","v":385703.57}]
["2.2.","денежные средства учреждения, размещенные на депозиты в кредитной организации",null,null,null,{"$f":"'Таблица  1'!E26","v":0}]
["2.3.","иные финансовые инструменты",null,null,null,{"$f":"'Таблица  1'!E27","v":0}]
["2.4.","дебиторская задолженность по доходам ",null,null,null,{"$f":"'Таблица  1'!E28","v":69409.56}]
["2.5.","дебиторская задолженность по расходам ",null,null,null,{"$f":"'Таблица  1'!E29","v":70787.710000000006}]
["3.","Обязательства, всего:",null,null,null,{"$f":"'Таблица  1'!E30","v":120100.6}]
["3.1.","из них: долговые обязательства",null,null,null,{"$f":"'Таблица  1'!E31","v":0}]
["3.2.","кредиторская задолженность:",null,null,null,{"$f":"'Таблица  1'!E32","v":67848.17}]
["3.2.1.","в том числе: просроченная кредиторская задолженность",null,null,null,{"$f":"'Таблица  1'!E33","v":0}]
["III. Показатели  по поступлениям и выплатам учреждения"]
[]
["на 01 января 2018 года"]
["Наименование показателя",null,null,null,"Код строки","Код вида расходов  Российской Федерации","Объем финансового обеспечения, руб. ( с точностью до двух знаков после запятой-0,00)"]
[null,null,null,null,null,null,"Всего","в том числе:"]
[null,null,null,null,null,null,null,"Субсидия на финансовое обеспечение выполнения муниципального задания","Субсидии, предоставляемые в соответствии с абзацем пункта 1 статьи 78.1 Бюджетного кодекса Российской Федерации","Субсидии на осуществление капитальных вложений","поступления от оказания услуг (выполнения работ) на платной основе и от иной приносящей доход деятельности"]
[null,null,null,null,null,null,null,null,null,null,"всего","из них гранты"]
[1,null,null,null,2,3,null,5,6,7,8,9]
["ПОСТУПЛЕНИЯ ОТ ДОХОДОВ,ВСЕГО:",null,null,null,100,"х",{"$f":"'Таблица  2'!H11","v":54589807.340000004},{"$f":"'Таблица  2'!I11","v":42466398.450000003},{"$f":"'Таблица  2'!J11","v":9877322.8200000003},{"$f":"'Таблица  2'!K11","v":0},{"$f":"'Таблица  2'!L11","v":2246086.0700000003},{"$f":"'Таблица  2'!M11","v":0}]
["в том числе: доходы от  собственности",null,null,null,110,null,{"$f":"'Таблица  2'!H12","v":0},{"$f":"'Таблица  2'!I12","v":0},{"$f":"'Таблица  2'!J12","v":0},{"$f":"'Таблица  2'!K12","v":0},{"$f":"'Таблица  2'!L12","v":0},{"$f":"'Таблица  2'!M12","v":0}]
["доходы от оказания услуг, работ",null,null,null,120,null,{"$f":"'Таблица  2'!H13","v":42466398.450000003},{"$f":"'Таблица  2'!I13","v":42466398.450000003},{"$f":"'Таблица  2'!J13","v":0},{"$f":"'Таблица  2'!K13","v":0},{"$f":"'Таблица  2'!L13","v":0},{"$f":"'Таблица  2'!M13","v":0}]
["доходы от штрафов, пеней иных сумм принудительного изъятия",null,null,null,130,null,{"$f":"'Таблица  2'!H14","v":18648.2},{"$f":"'Таблица  2'!I14","v":0},{"$f":"'Таблица  2'!J14","v":0},{"$f":"'Таблица  2'!K14","v":0},{"$f":"'Таблица  2'!L14","v":18648.2},{"$f":"'Таблица  2'!M14","v":0}]
["безвозмездные поступления от наднациональных организаций, правительств иностранных государств, международных финансовых организаций",null,null,null,140,null,{"$f":"'Таблица  2'!H15","v":0},{"$f":"'Таблица  2'!I15","v":0},{"$f":"'Таблица  2'!J15","v":0},{"$f":"'Таблица  2'!K15","v":0},{"$f":"'Таблица  2'!L15","v":0},{"$f":"'Таблица  2'!M15","v":0}]
["иные субсидии, предоставленные из бюджета",null,null,null,150,null,{"$f":"'Таблица  2'!H16","v":9877322.8200000003},{"$f":"'Таблица  2'!I16","v":0},{"$f":"'Таблица  2'!J16","v":9877322.8200000003},{"$f":"'Таблица  2'!K16","v":0},{"$f":"'Таблица  2'!L16","v":0},{"$f":"'Таблица  2'!M16","v":0}]
["прочие доходы",null,null,null,160,null,{"$f":"'Таблица  2'!H17","v":2227437.87},{"$f":"'Таблица  2'!I17","v":0},{"$f":"'Таблица  2'!J17","v":0},{"$f":"'Таблица  2'!K17","v":0},{"$f":"'Таблица  2'!L17","v":2227437.87},{"$f":"'Таблица  2'!M17","v":0}]
["в том числе родительская плата",null,null,null,161,null,{"$f":"'Таблица  2'!H18","v":1336203.07},{"$f":"'Таблица  2'!I18","v":0},{"$f":"'Таблица  2'!J18","v":0},{"$f":"'Таблица  2'!K18","v":0},{"$f":"'Таблица  2'!L18","v":1336203.07},{"$f":"'Таблица  2'!M18","v":0}]
["платные услуги",null,null,null,162,null,{"$f":"'Таблица  2'!H19","v":855263},{"$f":"'Таблица  2'!I19","v":0},{"$f":"'Таблица  2'!J19","v":0},{"$f":"'Таблица  2'!K19","v":0},{"$f":"'Таблица  2'!L19","v":855263},{"$f":"'Таблица  2'!M19","v":0}]
["добровольные пожертвования ",null,null,null,163,null,{"$f":"'Таблица  2'!H20","v":35971.800000000003},{"$f":"'Таблица  2'!I20","v":0},{"$f":"'Таблица  2'!J20","v":0},{"$f":"'Таблица  2'!K20","v":0},{"$f":"'Таблица  2'!L20","v":35971.800000000003},{"$f":"'Таблица  2'!M20","v":0}]
["доходы от операций с активами",null,null,null,180,null,{"$f":"'Таблица  2'!H21","v":0},{"$f":"'Таблица  2'!I21","v":0},{"$f":"'Таблица  2'!J21","v":0},{"$f":"'Таблица  2'!K21","v":0},{"$f":"'Таблица  2'!L21","v":0},{"$f":"'Таблица  2'!M21","v":0}]
["ВЫПЛАТЫ ПО РАСХОДАМ,ВСЕГО:",null,null,null,200,"х",{"$f":"'Таблица  2'!H22","v":55019614.899999999},{"$f":"'Таблица  2'!I22","v":42466398.450000003},{"$f":"'Таблица  2'!J22","v":9877322.8199999984},{"$f":"'Таблица  2'!K22","v":0},{"$f":"'Таблица  2'!L22","v":2675893.63},{"$f":"'Таблица  2'!M22","v":0}]
["в том числе на: выплаты персоналу всего:",null,null,null,210,{"$f":"'Таблица  2'!D23","v":""},{"$f":"'Таблица  2'!H23","v":33778278.520000003},{"$f":"'Таблица  2'!I23","v":33006613},{"$f":"'Таблица  2'!J23","v":0},{"$f":"'Таблица  2'!K23","v":0},{"$f":"'Таблица  2'!L23","v":771665.52},{"$f":"'Таблица  2'!M23","v":0}]
["из них: оплата труда и начисления на выплаты по оплате труда",null,null,null,211,{"$f":"'Таблица  2'!D24","v":""},{"$f":"'Таблица  2'!H24","v":33778278.520000003},{"$f":"'Таблица  2'!I24","v":33006613},{"$f":"'Таблица  2'!J24","v":0},{"$f":"'Таблица  2'!K24","v":0},{"$f":"'Таблица  2'!L24","v":771665.52},{"$f":"'Таблица  2'!M24","v":0}]
["из них: оплата труда ",null,null,null,null,"111",{"$f":"'Таблица  2'!H25","v":25794859.440000001},{"$f":"'Таблица  2'!I25","v":25362656.370000001},{"$f":"'Таблица  2'!J25","v":0},{"$f":"'Таблица  2'!K25","v":0},{"$f":"'Таблица  2'!L25","v":432203.07},{"$f":"'Таблица  2'!M25","v":0}]
[" начисления на выплаты по оплате труда ",null,null,null,null,"119",{"$f":"'Таблица  2'!H26","v":7983419.0800000001},{"$f":"'Таблица  2'!I26","v":7643956.6299999999},{"$f":"'Таблица  2'!J26","v":0},{"$f":"'Таблица  2'!K26","v":0},{"$f":"'Таблица  2'!L26","v":339462.45},{"$f":"'Таблица  2'!M26","v":0}]
["Социальные и иные выплаты населению, всего",null,null,null,220,{"$f":"'Таблица  2'!D27","v":""},{"$f":"'Таблица  2'!H27","v":15695.6},{"$f":"'Таблица  2'!I27","v":11070},{"$f":"'Таблица  2'!J27","v":0},{"$f":"'Таблица  2'!K27","v":0},{"$f":"'Таблица  2'!L27","v":4625.6000000000004},{"$f":"'Таблица  2'!M27","v":0}]
["из них: прочие выплаты ",null,null,null,null,{"$f":"'Таблица  2'!D28","v":"112"},{"$f":"'Таблица  2'!H28","v":15695.6},{"$f":"'Таблица  2'!I28","v":11070},{"$f":"'Таблица  2'!J28","v":0},{"$f":"'Таблица  2'!K28","v":0},{"$f":"'Таблица  2'!L28","v":4625.6000000000004},{"$f":"'Таблица  2'!M28","v":0}]
[" прочие расходы  (иные выплаты персоналу учреждений, за исключением фонда оплаты труда)",null,null,null,null,{"$f":"'Таблица  2'!D29","v":"112"},{"$f":"'Таблица  2'!H29","v":0},{"$f":"'Таблица  2'!I29","v":0},{"$f":"'Таблица  2'!J29","v":0},{"$f":"'Таблица  2'!K29","v":0},{"$f":"'Таблица  2'!L29","v":0},{"$f":"'Таблица  2'!M29","v":0}]
["транспортные услуги ",null,null,null,null,{"$f":"'Таблица  2'!D30","v":"112"},{"$f":"'Таблица  2'!H30","v":0},{"$f":"'Таблица  2'!I30","v":0},{"$f":"'Таблица  2'!J30","v":0},{"$f":"'Таблица  2'!K30","v":0},{"$f":"'Таблица  2'!L30","v":0},{"$f":"'Таблица  2'!M30","v":0}]
["прочие услуги",null,null,null,null,{"$f":"'Таблица  2'!D31","v":"112"},{"$f":"'Таблица  2'!H31","v":0},{"$f":"'Таблица  2'!I31","v":0},{"$f":"'Таблица  2'!J31","v":0},{"$f":"'Таблица  2'!K31","v":0},{"$f":"'Таблица  2'!L31","v":0},{"$f":"'Таблица  2'!M31","v":0}]
["Уплату налогов, сборов и  иных платежей, всего",null,null,null,230,{"$f":"'Таблица  2'!D32","v":""},{"$f":"'Таблица  2'!H32","v":0},{"$f":"'Таблица  2'!I32","v":0},{"$f":"'Таблица  2'!J32","v":0},{"$f":"'Таблица  2'!K32","v":0},{"$f":"'Таблица  2'!L32","v":0},{"$f":"'Таблица  2'!M32","v":0}]
["безвозмездные перечисления организациям",null,null,null,240,{"$f":"'Таблица  2'!D33","v":""},{"$f":"'Таблица  2'!H33","v":0},{"$f":"'Таблица  2'!I33","v":0},{"$f":"'Таблица  2'!J33","v":0},{"$f":"'Таблица  2'!K33","v":0},{"$f":"'Таблица  2'!L33","v":0},{"$f":"'Таблица  2'!M33","v":0}]
["Прочие расходы (кроме расходов на закупку товаров, работ, услуг) ",null,null,null,250,{"$f":"'Таблица  2'!D34","v":""},{"$f":"'Таблица  2'!H34","v":1197871.1200000001},{"$f":"'Таблица  2'!I34","v":1063722},{"$f":"'Таблица  2'!J34","v":131799.12},{"$f":"'Таблица  2'!K34","v":0},{"$f":"'Таблица  2'!L34","v":2350},{"$f":"'Таблица  2'!M34","v":0}]
[" прочие расходы (питание спортсменов)",null,null,null,null,{"$f":"'Таблица  2'!D35","v":"113"},{"$f":"'Таблица  2'!H35","v":0},{"$f":"'Таблица  2'!I35","v":0},{"$f":"'Таблица  2'!J35","v":0},{"$f":"'Таблица  2'!K35","v":0},{"$f":"'Таблица  2'!L35","v":0},{"$f":"'Таблица  2'!M35","v":0}]
[" прочие расходы (трудоустройство несовершеннолетних граждан(трудовые бригады)",null,null,null,null,{"$f":"'Таблица  2'!D36","v":"360"},{"$f":"'Таблица  2'!H36","v":131799.12},{"$f":"'Таблица  2'!I36","v":0},{"$f":"'Таблица  2'!J36","v":131799.12},{"$f":"'Таблица  2'!K36","v":0},{"$f":"'Таблица  2'!L36","v":0},{"$f":"'Таблица  2'!M36","v":0}]
[" прочие расходы (возмещение истцу расходов на государственную пошлину и уплата неустойки, оплата расходов на экспертизу судебным актом, возмещение ущерба должностным лицом по суду)",null,null,null,null,{"$f":"'Таблица  2'!D37","v":"831"},{"$f":"'Таблица  2'!H37","v":0},{"$f":"'Таблица  2'!I37","v":0},{"$f":"'Таблица  2'!J37","v":0},{"$f":"'Таблица  2'!K37","v":0},{"$f":"'Таблица  2'!L37","v":0},{"$f":"'Таблица  2'!M37","v":0}]
[" прочие расходы (уплата налога на имущество организаций, земельного налога)",null,null,null,null,{"$f":"'Таблица  2'!D38","v":"851"},{"$f":"'Таблица  2'!H38","v":1063722},{"$f":"'Таблица  2'!I38","v":1063722},{"$f":"'Таблица  2'!J38","v":0},{"$f":"'Таблица  2'!K38","v":0},{"$f":"'Таблица  2'!L38","v":0},{"$f":"'Таблица  2'!M38","v":0}]
[{"$f":"'Таблица  2'!B39","v":"прочие расходы(уплата трансп.налога,госпошлина учр.-ответчика по реш.суда)"},null,null,null,null,{"$f":"'Таблица  2'!D39","v":"852"},{"$f":"'Таблица  2'!H39","v":2350},{"$f":"'Таблица  2'!I39","v":0},{"$f":"'Таблица  2'!J39","v":0},{"$f":"'Таблица  2'!K39","v":0},{"$f":"'Таблица  2'!L39","v":2350},{"$f":"'Таблица  2'!M39","v":0}]
[{"$f":"'Таблица  2'!B40","v":"уплата иных платежей(в т.ч. за несвоевремен.упл.налогов и сборов,плата за загрязн.окр.среды)"},null,null,null,null,{"$f":"'Таблица  2'!D40","v":"853"},{"$f":"'Таблица  2'!H40","v":0},{"$f":"'Таблица  2'!I40","v":0},{"$f":"'Таблица  2'!J40","v":0},{"$f":"'Таблица  2'!K40","v":0},{"$f":"'Таблица  2'!L40","v":0},{"$f":"'Таблица  2'!M40","v":0}]
["Расходы на закупку товаров, работ, услуг ,всего ",null,null,null,260,"х",{"$f":"'Таблица  2'!H41","v":20027769.659999996},{"$f":"'Таблица  2'!I41","v":8384993.4499999993},{"$f":"'Таблица  2'!J41","v":9745523.6999999993},{"$f":"'Таблица  2'!K41","v":0},{"$f":"'Таблица  2'!L41","v":1897252.51},{"$f":"'Таблица  2'!M41","v":0}]
["Закупка товаров, работ, услуг  на  капитальный ремонт государственного (муниципального)  имущества",null,null,null,261,{"$f":"'Таблица  2'!D42","v":""},{"$f":"'Таблица  2'!H42","v":7379974},{"$f":"'Таблица  2'!I42","v":0},{"$f":"'Таблица  2'!J42","v":7379974},{"$f":"'Таблица  2'!K42","v":0},{"$f":"'Таблица  2'!L42","v":0},{"$f":"'Таблица  2'!M42","v":0}]
["услуги по содержанию имущества ",null,null,null,null,{"$f":"'Таблица  2'!D43","v":"243"},{"$f":"'Таблица  2'!H43","v":7379974},{"$f":"'Таблица  2'!I43","v":0},{"$f":"'Таблица  2'!J43","v":7379974},{"$f":"'Таблица  2'!K43","v":0},{"$f":"'Таблица  2'!L43","v":0},{"$f":"'Таблица  2'!M43","v":0}]
["прочие услуги ",null,null,null,null,{"$f":"'Таблица  2'!D44","v":"243"},{"$f":"'Таблица  2'!H44","v":0},{"$f":"'Таблица  2'!I44","v":0},{"$f":"'Таблица  2'!J44","v":0},{"$f":"'Таблица  2'!K44","v":0},{"$f":"'Таблица  2'!L44","v":0},{"$f":"'Таблица  2'!M44","v":0}]
[" Затраты на на строительство объектов недвижимого имущества государственными (муниципальными) учреждениями",null,null,null,262,null,{"$f":"'Таблица  2'!H45","v":0},{"$f":"'Таблица  2'!I45","v":0},{"$f":"'Таблица  2'!J45","v":0},{"$f":"'Таблица  2'!K45","v":0},{"$f":"'Таблица  2'!L45","v":0},{"$f":"'Таблица  2'!M45","v":0}]
["прочие услуги ",null,null,null,null,{"$f":"'Таблица  2'!D46","v":"407"},{"$f":"'Таблица  2'!H46","v":0},{"$f":"'Таблица  2'!I46","v":0},{"$f":"'Таблица  2'!J46","v":0},{"$f":"'Таблица  2'!K46","v":0},{"$f":"'Таблица  2'!L46","v":0},{"$f":"'Таблица  2'!M46","v":0}]
["приобретение основных средств ",null,null,null,null,{"$f":"'Таблица  2'!D47","v":"407"},{"$f":"'Таблица  2'!H47","v":0},{"$f":"'Таблица  2'!I47","v":0},{"$f":"'Таблица  2'!J47","v":0},{"$f":"'Таблица  2'!K47","v":0},{"$f":"'Таблица  2'!L47","v":0},{"$f":"'Таблица  2'!M47","v":0}]
["Прочая закупка товаров, работ и услуг для обеспечения государственных (муниципальных) нужд",null,null,null,263,{"$f":"'Таблица  2'!D48","v":""},{"$f":"'Таблица  2'!H48","v":12647795.659999998},{"$f":"'Таблица  2'!I48","v":8384993.4499999993},{"$f":"'Таблица  2'!J48","v":2365549.7000000002},{"$f":"'Таблица  2'!K48","v":0},{"$f":"'Таблица  2'!L48","v":1897252.51},{"$f":"'Таблица  2'!M48","v":0}]
["услуги связи ",null,null,null,null,{"$f":"'Таблица  2'!D49","v":"244"},{"$f":"'Таблица  2'!H49","v":96449.05},{"$f":"'Таблица  2'!I49","v":58880.05},{"$f":"'Таблица  2'!J49","v":0},{"$f":"'Таблица  2'!K49","v":0},{"$f":"'Таблица  2'!L49","v":37569},{"$f":"'Таблица  2'!M49","v":0}]
["транспортные услуги ",null,null,null,null,{"$f":"'Таблица  2'!D50","v":"244"},{"$f":"'Таблица  2'!H50","v":1135600},{"$f":"'Таблица  2'!I50","v":1135600},{"$f":"'Таблица  2'!J50","v":0},{"$f":"'Таблица  2'!K50","v":0},{"$f":"'Таблица  2'!L50","v":0},{"$f":"'Таблица  2'!M50","v":0}]
["коммунальные услуги ",null,null,null,null,{"$f":"'Таблица  2'!D51","v":"244"},{"$f":"'Таблица  2'!H51","v":3985820.53},{"$f":"'Таблица  2'!I51","v":3950936.53},{"$f":"'Таблица  2'!J51","v":0},{"$f":"'Таблица  2'!K51","v":0},{"$f":"'Таблица  2'!L51","v":34884},{"$f":"'Таблица  2'!M51","v":0}]
["арендная плата за пользование имущества ",null,null,null,null,{"$f":"'Таблица  2'!D52","v":"244"},{"$f":"'Таблица  2'!H52","v":0},{"$f":"'Таблица  2'!I52","v":0},{"$f":"'Таблица  2'!J52","v":0},{"$f":"'Таблица  2'!K52","v":0},{"$f":"'Таблица  2'!L52","v":0},{"$f":"'Таблица  2'!M52","v":0}]
["услуги по содержанию имущества ",null,null,null,null,{"$f":"'Таблица  2'!D53","v":"244"},{"$f":"'Таблица  2'!H53","v":558455.64},{"$f":"'Таблица  2'!I53","v":497625},{"$f":"'Таблица  2'!J53","v":20638.64},{"$f":"'Таблица  2'!K53","v":0},{"$f":"'Таблица  2'!L53","v":40192},{"$f":"'Таблица  2'!M53","v":0}]
["прочие услуги ",null,null,null,null,{"$f":"'Таблица  2'!D54","v":"244"},{"$f":"'Таблица  2'!H54","v":413140.47},{"$f":"'Таблица  2'!I54","v":336381.47},{"$f":"'Таблица  2'!J54","v":48000},{"$f":"'Таблица  2'!K54","v":0},{"$f":"'Таблица  2'!L54","v":28759},{"$f":"'Таблица  2'!M54","v":0}]
["прочие расходы (призы,кубки)",null,null,null,null,{"$f":"'Таблица  2'!D55","v":"244"},{"$f":"'Таблица  2'!H55","v":396},{"$f":"'Таблица  2'!I55","v":396},{"$f":"'Таблица  2'!J55","v":0},{"$f":"'Таблица  2'!K55","v":0},{"$f":"'Таблица  2'!L55","v":0},{"$f":"'Таблица  2'!M55","v":0}]
["приобретение основных средств ",null,null,null,null,{"$f":"'Таблица  2'!D56","v":"244"},{"$f":"'Таблица  2'!H56","v":1779830.4},{"$f":"'Таблица  2'!I56","v":1613988.4},{"$f":"'Таблица  2'!J56","v":0},{"$f":"'Таблица  2'!K56","v":0},{"$f":"'Таблица  2'!L56","v":165842},{"$f":"'Таблица  2'!M56","v":0}]
["приобретение материальных запасов ",null,null,null,null,{"$f":"'Таблица  2'!D57","v":"244"},{"$f":"'Таблица  2'!H57","v":4678103.57},{"$f":"'Таблица  2'!I57","v":791186},{"$f":"'Таблица  2'!J57","v":2296911.06},{"$f":"'Таблица  2'!K57","v":0},{"$f":"'Таблица  2'!L57","v":1590006.51},{"$f":"'Таблица  2'!M57","v":0}]
["Поступление финансовых активов, всего:",null,null,null,300,{"$f":"'Таблица  2'!D58","v":"х"},{"$f":"'Таблица  2'!H58","v":0},{"$f":"'Таблица  2'!I58","v":0},{"$f":"'Таблица  2'!J58","v":0},{"$f":"'Таблица  2'!K58","v":0},{"$f":"'Таблица  2'!L58","v":0},{"$f":"'Таблица  2'!M58","v":0}]
["из них: увеличение остатков средств",null,null,null,310,{"$f":"'Таблица  2'!D59","v":""},{"$f":"'Таблица  2'!H59","v":0},{"$f":"'Таблица  2'!I59","v":0},{"$f":"'Таблица  2'!J59","v":0},{"$f":"'Таблица  2'!K59","v":0},{"$f":"'Таблица  2'!L59","v":0},{"$f":"'Таблица  2'!M59","v":0}]
["Прочие поступления",null,null,null,320,{"$f":"'Таблица  2'!D60","v":""},{"$f":"'Таблица  2'!H60","v":0},{"$f":"'Таблица  2'!I60","v":0},{"$f":"'Таблица  2'!J60","v":0},{"$f":"'Таблица  2'!K60","v":0},{"$f":"'Таблица  2'!L60","v":0},{"$f":"'Таблица  2'!M60","v":0}]
["Выбытие финансовых активов, всего",null,null,null,400,{"$f":"'Таблица  2'!D61","v":""},{"$f":"'Таблица  2'!H61","v":0},{"$f":"'Таблица  2'!I61","v":0},{"$f":"'Таблица  2'!J61","v":0},{"$f":"'Таблица  2'!K61","v":0},{"$f":"'Таблица  2'!L61","v":0},{"$f":"'Таблица  2'!M61","v":0}]
["из них: уменьшение остатков средств",null,null,null,410,{"$f":"'Таблица  2'!D62","v":""},{"$f":"'Таблица  2'!H62","v":0},{"$f":"'Таблица  2'!I62","v":0},{"$f":"'Таблица  2'!J62","v":0},{"$f":"'Таблица  2'!K62","v":0},{"$f":"'Таблица  2'!L62","v":0},{"$f":"'Таблица  2'!M62","v":0}]
["прочие выбытия",null,null,null,420,{"$f":"'Таблица  2'!D63","v":""},{"$f":"'Таблица  2'!H63","v":0},{"$f":"'Таблица  2'!I63","v":0},{"$f":"'Таблица  2'!J63","v":0},{"$f":"'Таблица  2'!K63","v":0},{"$f":"'Таблица  2'!L63","v":0},{"$f":"'Таблица  2'!M63","v":0}]
["Остаток средств на начало года",null,null,null,500,{"$f":"'Таблица  2'!D64","v":"х"},{"$f":"'Таблица  2'!H64","v":429807.56},{"$f":"'Таблица  2'!I64","v":0},{"$f":"'Таблица  2'!J64","v":0},{"$f":"'Таблица  2'!K64","v":0},{"$f":"'Таблица  2'!L64","v":429807.56},{"$f":"'Таблица  2'!M64","v":0}]
["Остаток средств на конец года",null,null,null,600,{"$f":"'Таблица  2'!D65","v":"х"},{"$f":"'Таблица  2'!H65","v":0},{"$f":"'Таблица  2'!I65","v":0},{"$f":"'Таблица  2'!J65","v":0},{"$f":"'Таблица  2'!K65","v":0},{"$f":"'Таблица  2'!L65","v":0},{"$f":"'Таблица  2'!M65","v":0}]
["IV. Показатели  по поступлениям и выплатам учреждения"]
["на 01 января 2018 года"]
["Наименование показателя","Код строки","Код бюджетной классификации Российской Федерации","Сумма выплат по расходам на закупку товаров, работ и услуг, руб.                                                                 ( с точностью до двух знаков после запятой-0,00)"]
[null,null,null,"всего на закупки",null,null,"в том числе:"]
[null,null,null,null,null,null,"Федеральным законом от 05 апреля 2013 года №44-ФЗ \"О контрактной системе в сфере закупок товаров ,работ, услуг для обеспечения государственных  и муниципальных нужд\"",null,null,"в соответствии с Федеральным законом от 18 июля 2011 года №223-ФЗ \"О закупках товаров, работ, услуг отдельными видами юридических лиц\""]
[null,null,null,"на 2018 г. очередной финансовый год","на 2019 г. 1-ый год планового периода","на 2020 г. 2-ый год планового периода","на 2018 г. очередной финансовый год","на 2019 г. 1-ый год планового периода","на 2020 г. 2-ый год планового периода","на 2018 г. очередной финансовый год","на 2019 г. 1-ый год планового периода","на 2020 г. 2-ый год планового периода"]
[1,2,3,4,5,6,7,8,9,10,11,12]
["Выплаты по расходам на закупку товаров, работ ,услуг, всего:","0001","х",{"$f":"'Таблица  2'!E72","v":20027769.659999996},{"$f":"'Таблица  2'!F72","v":11691220.41},{"$f":"'Таблица  2'!G72","v":11865469.449999999},{"$f":"'Таблица  2'!H72","v":20027769.659999996},{"$f":"'Таблица  2'!I72","v":11691220.41},{"$f":"'Таблица  2'!J72","v":11865469.449999999},{"$f":"'Таблица  2'!K72","v":0},{"$f":"'Таблица  2'!L72","v":0},{"$f":"'Таблица  2'!M72","v":0}]
["в том числе: на оплату контрактов заключенных до начала очередного финансового года :","1001","х",{"$f":"'Таблица  2'!E73","v":848792.45},{"$f":"'Таблица  2'!F73","v":848792.45},{"$f":"'Таблица  2'!G73","v":848792.45},{"$f":"'Таблица  2'!H73","v":848792.45},{"$f":"'Таблица  2'!I73","v":848792.45},{"$f":"'Таблица  2'!J73","v":848792.45},{"$f":"'Таблица  2'!K73","v":0},{"$f":"'Таблица  2'!L73","v":0},{"$f":"'Таблица  2'!M73","v":0}]
["на закупку товаров работ, услуг погоду начала закупки:","2001",null,{"$f":"'Таблица  2'!E74","v":19178977.209999997},{"$f":"'Таблица  2'!F74","v":10842427.960000001},{"$f":"'Таблица  2'!G74","v":11016677},{"$f":"'Таблица  2'!H74","v":19178977.209999997},{"$f":"'Таблица  2'!I74","v":10842427.960000001},{"$f":"'Таблица  2'!J74","v":11016677},{"$f":"'Таблица  2'!K74","v":0},{"$f":"'Таблица  2'!L74","v":0},{"$f":"'Таблица  2'!M74","v":0}]
["V.Сведения о средствах, поступившых во временное распоряжение учреждения"]
[]
["на 01 января 2018 год"]
["(очередной финансовый год)"]
["Наименование показателя",null,null,null,null,"Код строки",null,null,"Сумма ( руб. с точностью до двух знаков после запятой-0,00)"]
[1,null,null,null,null,2,null,null,3]
["Остаток средств на начало года",null,null,null,null,"010",null,null,{"$f":"'Таблица  1'!E38","v":0}]
["Остаток средств наконец года",null,null,null,null,"020",null,null,{"$f":"'Таблица  1'!E39","v":0}]
["Поступление ",null,null,null,null,"030",null,null,{"$f":"'Таблица  1'!E40","v":0}]
["Выбытие",null,null,null,null,"040",null,null,{"$f":"'Таблица  1'!E41","v":0}]
["VI. Справочная информация"]
[]
["Наименование показателя",null,null,null,null,"Код строки",null,null,"Сумма ( руб. с точностью до двух знаков после запятой-0,00)"]
[1,null,null,null,null,2,null,null,3]
["Объем публичных обязательств, всего:",null,null,null,null,"010",null,null,{"$f":"'Таблица  1'!E44","v":419723}]
["Объем бюджетных инвестиций (в части переданных полномочий муниципального заказчика в соответствии с Бюджетным кодексом Российской Федерации),всего:",null,null,null,null,"020",null,null,{"$f":"'Таблица  1'!E45","v":0}]
["Объем средств, поступивших во временное распоряжение ,всего",null,null,null,null,"030",null,null,{"$f":"'Таблица  1'!E46","v":0}]
[]
["Директор",null,null,null,null,"Битнер В.Ф."]
[]
["Заместитель директора по финансам                     ",null,null,null,null,"Абрамчук С.С."]
[]
["                                                                                                                                                 "]
["Исполнитель                                                  ",null,null,null,null,"Абрамчук С.С."]
["                                                                                                                                                 "]
["Согласовано:"]
[]
["Начальник финансово-экономического"]
["отдела                                                             ",null,null,null,null,null,null,"Н.А. Вялкова"]
[]
["Директор МКУ "]
["Центр обслуживания"]
[null,null,null,null,null,null,null,"И.Ю. Щербак"]
["                                                                                                                                                  "]
["Начальник отдела планирования "]
["и анализа МКУ "]
["Центр обслуживания"]
[null,null,null,null,null,null,null,"Е.Е. Гончар"]
["                                                                                                                                               "]
[]
[]
[]
[]
[]
[]
[]
[]
[]
[]
[]
[]
[]
[]
[]
[]
[]
[]
[]
["Заключение"]
[null,"на обоснованность расчетов, приведенных в пояснительной записке к Плану финансово-хозяйственной деятельности  на 2018 год и плановый период 2019-2020 годов, и соответствия показателей в информации о планируемых объемах расходных обязательств по учреждению:"]
[null,{"$f":"F14","v":"Муниципальное бюджетное общеобразовательное учреждение                                                          \"Средняя общеобразовательная школа № 8\" г. Уссурийска Уссурийского городского округа"}]
[]
[null,"наименование учреждения"]
[]
[null,"Планируемые объемы расходных обязательств по учреждению:"]
[]
[null,null,"Наименование показателя",null,null,null,null,"Очередной финансовый год                                2018г."]
[]
[null,null,"Поступления, всего:",null,null,null,null,{"$f":"'Таблица  2'!H11","v":54589807.340000004}]
[null,null,"в том числе:"]
[null,null,"доходы от собственности",null,null,null,null,{"$f":"'Таблица  2'!H12","v":0}]
[null,null,"доходы от оказания услуг, работ",null,null,null,null,{"$f":"'Таблица  2'!H13","v":42466398.450000003}]
[null,null,"доходы от штрафов, пеней иных сумм принудительного изъятия",null,null,null,null,{"$f":"'Таблица  2'!H14","v":18648.2}]
[null,null,"безвозмездные поступления от наднациональных организаций, правительств иностранных государств, международных финансовых организаций",null,null,null,null,{"$f":"'Таблица  2'!H15","v":0}]
[null,null,"иные субсидии, предоставленные из бюджета",null,null,null,null,{"$f":"'Таблица  2'!H16","v":9877322.8200000003}]
[null,null,"прочие доходы",null,null,null,null,{"$f":"'Таблица  2'!H17","v":2227437.87}]
[null,null,"в том числе родительская плата",null,null,null,null,{"$f":"'Таблица  2'!H18","v":1336203.07}]
[null,null,"платные услуги",null,null,null,null,{"$f":"'Таблица  2'!H19","v":855263}]
[null,null,"добровольные пожертвования ",null,null,null,null,{"$f":"'Таблица  2'!H20","v":35971.800000000003}]
[null,null,"доходы от операций с активами",null,null,null,null,{"$f":"'Таблица  2'!H21","v":0}]
[null,null,"Расходы, всего",null,null,null,null,{"$f":"'Таблица  2'!H22","v":55019614.899999999}]
[]
[]
[null,"План финансово-хозяйственной деятельности на 2018 год и плановый период 2019-2020 годов (далее - План) по учреждению"]
[null,{"$f":"F14","v":"Муниципальное бюджетное общеобразовательное учреждение                                                          \"Средняя общеобразовательная школа № 8\" г. Уссурийска Уссурийского городского округа"}]
[]
[null,"наименование учреждения"]
[null,"разработан в соответствии с действующим Порядком, утвержденным постановлением администрации Уссурийского городского округа от 08.07.2011г. №1658-НПА."]
[null,"Расчеты, приведенные в пояснительной записке, соответствуют информации о планируемых объемах расходных обязательств. Расчеты обоснованны и экономически целесообразны."]
[]
[]
[]
[null,"Начальник финансово-экономического отдела управления образования и молодежной политики",null,null,null,null,null,null,null,null,"Н.А. Вялкова"]
[]
[null,"Директор МКУ Центр обслуживания",null,null,null,null,null,null,null,null,"И.Ю. Щербак"]
[]
[null,null,null,null,null,null,null,null,null,"___________ 20 ___ г."]
[null,"Е.Е. Гончар"]
[null,"32-43-35"]